BEGIN:VCALENDAR
VERSION:2.0
PRODID:-//Dorf - ECPv4.8.2//NONSGML v1.0//EN
CALSCALE:GREGORIAN
METHOD:PUBLISH
X-WR-CALNAME:Dorf
X-ORIGINAL-URL:https://www.dorf.by
X-WR-CALDESC:Events for Dorf
BEGIN:VEVENT
DTSTART;VALUE=DATE:20190719
DTEND;VALUE=DATE:20190722
DTSTAMP:20260424T100522
CREATED:20190606T114855Z
LAST-MODIFIED:20190606T114855Z
UID:883-1563494400-1563753599@www.dorf.by
SUMMARY:дом 2 бронь/ house 2 booked
DESCRIPTION:
URL:https://www.dorf.by/event/%d0%b4%d0%be%d0%bc-2-%d0%b1%d1%80%d0%be%d0%bd%d1%8c-house-2-booked-10/
END:VEVENT
END:VCALENDAR