BEGIN:VCALENDAR
VERSION:2.0
PRODID:-//Dorf - ECPv4.8.2//NONSGML v1.0//EN
CALSCALE:GREGORIAN
METHOD:PUBLISH
X-WR-CALNAME:Dorf
X-ORIGINAL-URL:https://www.dorf.by
X-WR-CALDESC:Events for Dorf
BEGIN:VEVENT
DTSTART;TZID=UTC+0:20180611T080000
DTEND;TZID=UTC+0:20180710T213000
DTSTAMP:20260422T085145
CREATED:20180605T044438Z
LAST-MODIFIED:20180605T044438Z
UID:533-1528704000-1531258200@www.dorf.by
SUMMARY:дом 1 занят/house 1 busy
DESCRIPTION:
URL:https://www.dorf.by/event/%d0%b4%d0%be%d0%bc-1-%d0%b7%d0%b0%d0%bd%d1%8f%d1%82-house-1-busy-4/
END:VEVENT
END:VCALENDAR