BEGIN:VCALENDAR
VERSION:2.0
PRODID:-//Dorf - ECPv4.8.2//NONSGML v1.0//EN
CALSCALE:GREGORIAN
METHOD:PUBLISH
X-WR-CALNAME:Dorf
X-ORIGINAL-URL:https://www.dorf.by
X-WR-CALDESC:Events for Dorf
BEGIN:VEVENT
DTSTART;TZID=UTC+0:20190718T120000
DTEND;TZID=UTC+0:20190721T120000
DTSTAMP:20260422T090128
CREATED:20190703T063456Z
LAST-MODIFIED:20190703T063456Z
UID:926-1563451200-1563710400@www.dorf.by
SUMMARY:дом 1 бронь/ house 1 booked
DESCRIPTION:
URL:https://www.dorf.by/event/%d0%b4%d0%be%d0%bc-1-%d0%b1%d1%80%d0%be%d0%bd%d1%8c-house-1-booked-8/
END:VEVENT
END:VCALENDAR